BEGIN:VCALENDAR
VERSION:2.0
PRODID:-//Helsingin kanoottiklubi//NONSGML kigkonsult.se iCalcreator 2.30.1
 0//
CALSCALE:GREGORIAN
METHOD:PUBLISH
UID:21b585c0-53a6-4c0a-9359-4b77a2c0c0e4
X-WR-CALNAME:iCagenda
X-WR-CALDESC:Event Management Extension for Joomla!
X-WR-RELCALID:3E26604A-50F4-4449-8B3E-E4F4932D05B5
X-WR-TIMEZONE:Europe/Helsinki
BEGIN:VTIMEZONE
TZID:Europe/Helsinki
BEGIN:STANDARD
TZNAME:EET
DTSTART:20241027T040000
TZOFFSETFROM:+0300
TZOFFSETTO:+0200
RDATE:20251026T040000
RDATE:20261025T040000
END:STANDARD
BEGIN:DAYLIGHT
TZNAME:EEST
DTSTART:20250330T030000
TZOFFSETFROM:+0200
TZOFFSETTO:+0300
RDATE:20260329T030000
END:DAYLIGHT
END:VTIMEZONE
BEGIN:VEVENT
UID:2bb56e12-c9d5-4263-9478-a3f0ead99204
DTSTAMP:20260419T172738Z
CATEGORIES:Seuraretki
CLASS:PUBLIC
DESCRIPTION;ALTREP="CID:<FFFF__=0ABBE548DFE235B58f9e8a93d@coffeebean.com>":
 HKK:n 100-vuotisjuhlaretki suuntaa heinäkuussa 2025 Saimaalle\, Puumalan a
 lueen vesistöön.\n\nRetkelle lähtijöille HKK tarjoaa HKK:n kalustosta poly
 eteenikajakin\, melan ja kelluntaliivin\nNe retkeläiset joilla on oma kaja
 kki ja muut varusteet\, voivat käyttää omia varusteitaan.\nHKK:lla ei ole 
 seuran retkeläisille muuta vakuutusta kuin lakisääteinen vastuuvakuutus jo
 ka korvaa ainoastaan ”törkeästä toimihenkilöiden huolimattomuudesta johtuv
 ia” vahinkoja. Varmistakaa oma vapaa-ajan vakuutuksenne voimassaolo ennen 
 retkeä.\nRetkeläiset muodostavat maakulkemisia varten autoryhmät\, jotka s
 opivat keskenään kokoonpanon\, kenen autolla mennään\, kuka / ketkä ajavat
  sekä jakavat auton kustannukset ryhmän sisäisesti. HKK ei sponsoroi autoi
 lua taloudellisesti.\nTulemme majoittumaan yhden yön Puumalan Lintusalossa
  Nestorinranta Bed &amp\; Breakfast – palvelun tiloissa.\nNestorinrannan m
 ajoituksina tarjolla 2h huone 90\,00€ + liinavaatemaksu tai 2h aittahuone 
 60-70€ + liinavaatemaksu.\nVarausmaksu 25% maksetaan ilmoittautumisen jälk
 een huhtikuussa.\nAlustavasti Nestorinrannan Riitta Viialaiselta on varatt
 u majoitus 10 hengelle 3-4.7.2025 aamiaisella.\nRiitalla tarjolla myös ilt
 aruokailu – tästä sovitaan tarkemman suunnittelun yhteydessä.\nMuut yöpymi
 set tulemme viettämään teltoissa\, joihin muodostetaan ryhmät: kenen teltt
 a / ketä majoittuu missäkin.\n\n\nRetkelle halukkaiden sitova ilmoittautum
 inen HKK:n toimistoon 10.3.2025 mennessä.\nValmistautuminen retkelle edell
 yttää että lähtijät ovat kevään ja alkukesän aikana meloneet n. 100 – 150k
 m\nNäitä kilometrejä tulemme keräämään yhteisillä lyhyemmillä retkillä tou
 kokuun ja kesäkuun aikana.\nRetken ideana on tutustuttaa HKK:n melojia sis
 ävesille tehtävään melontaretkeilyyn\, jossa nautitaan ulkoilusta\, retkei
 lystä ja melonnasta pitämättä kiirettä.\nLähtijöillä ei tarvitse olla pitk
 ää aiempaa melontaretkeilykokemusta\, tavoitteena on siis saada kokemuksia
 .\n\n&nbsp\;\nHKK:n 100-vuotisjuhlaretken aikataulusta:\n\nValmistelukokoo
 ntumisia ja testiretkiä huhtikuussa\, toukokuussa ja kesäkuussa\nPuumalan 
 retkelle lähtövalmistelu torstai-iltana 3.7.2025 HKK:n vajalla klo 18.00 –
  21.00 jolloin pakataan seuran retkeläisille kajakit ja muut varusteet val
 miiksi seuran traileriin. Tähän osallistuvat kaikki retkeläiset.\nLähtö se
 uraavana aamuna eli perjantaina 4.7.2025 klo 09.30 – kaikki paikalle siis 
 08.30\nPaluu HKK:lle maanantaina 7.7.2025 illalla\, jolloin puretaan trail
 erista kajakit ja varusteet paikoilleen. Tähän osallistuvat kaikki retkelä
 iset.\n
DTSTART:20250704T050000Z
DTEND:20250707T180000Z
GEO:+61.466042;+28.04895
LOCATION:Puumala
ORGANIZER;CN=:timo.repo@saunalahti.fi
SEQUENCE:1
SUMMARY:HKK 100-vuotisjuhlavuoden melontaretki Puumalaan 2025
TRANSP:OPAQUE
URL:https://www.helsinginkanoottiklubi.fi/index.php/component/icagenda/hkk-
 100-vuotisjuhlavuoden-melontaretki-puumalaan-2025
END:VEVENT
END:VCALENDAR
