BEGIN:VCALENDAR
VERSION:2.0
PRODID:-//Helsingin kanoottiklubi//NONSGML kigkonsult.se iCalcreator 2.30.1
 0//
CALSCALE:GREGORIAN
METHOD:PUBLISH
UID:388dd213-0858-46dd-ac59-feac4e292c4f
X-WR-CALNAME:iCagenda
X-WR-CALDESC:Event Management Extension for Joomla!
X-WR-RELCALID:3E26604A-50F4-4449-8B3E-E4F4932D05B5
X-WR-TIMEZONE:Europe/Helsinki
BEGIN:VTIMEZONE
TZID:Europe/Helsinki
BEGIN:STANDARD
TZNAME:EET
DTSTART:20231029T040000
TZOFFSETFROM:+0300
TZOFFSETTO:+0200
RDATE:20241027T040000
RDATE:20251026T040000
END:STANDARD
BEGIN:DAYLIGHT
TZNAME:EEST
DTSTART:20240331T030000
TZOFFSETFROM:+0200
TZOFFSETTO:+0300
RDATE:20250330T030000
END:DAYLIGHT
END:VTIMEZONE
BEGIN:VEVENT
UID:29a94ff9-c72d-4ea2-840b-b9a88710d571
DTSTAMP:20260424T161559Z
CATEGORIES:Talkoot
CLASS:PUBLIC
DESCRIPTION:
DTSTART:20240505T090000Z
DTEND:20240505T090000Z
GEO:00;0
LOCATION:Melontakeskus
ORGANIZER:
SEQUENCE:1
SUMMARY:Kalustohuoltotalkoot
TRANSP:OPAQUE
URL:https://www.helsinginkanoottiklubi.fi/index.php/component/icagenda/kalu
 stohuoltotalkoot/2024-05-05-12-00
END:VEVENT
END:VCALENDAR
