BEGIN:VCALENDAR
VERSION:2.0
PRODID:-//Helsingin kanoottiklubi//NONSGML kigkonsult.se iCalcreator 2.30.1
 0//
CALSCALE:GREGORIAN
METHOD:PUBLISH
UID:485fb7b7-38b6-471f-85d7-5e76b6dcc86b
X-WR-CALNAME:iCagenda
X-WR-CALDESC:Event Management Extension for Joomla!
X-WR-RELCALID:3E26604A-50F4-4449-8B3E-E4F4932D05B5
X-WR-TIMEZONE:Europe/Helsinki
BEGIN:VTIMEZONE
TZID:Europe/Helsinki
BEGIN:STANDARD
TZNAME:EET
DTSTART:20231029T040000
TZOFFSETFROM:+0300
TZOFFSETTO:+0200
RDATE:20241027T040000
RDATE:20251026T040000
END:STANDARD
BEGIN:DAYLIGHT
TZNAME:EEST
DTSTART:20240331T030000
TZOFFSETFROM:+0200
TZOFFSETTO:+0300
RDATE:20250330T030000
RDATE:20260329T030000
END:DAYLIGHT
END:VTIMEZONE
BEGIN:VEVENT
UID:abf7ccc9-f22a-4846-9db3-ec109817142e
DTSTAMP:20260420T073536Z
CATEGORIES:Ohjattu melonta
CLASS:PUBLIC
DESCRIPTION:
DTSTART:20241009T140000Z
DTEND:20241009T140000Z
GEO:+60.181057;+24.90877
LOCATION:Helsingin Melontakeskus
ORGANIZER:
SEQUENCE:1
SUMMARY:Keskiviikkomelonta
TRANSP:OPAQUE
URL:https://www.helsinginkanoottiklubi.fi/index.php/component/icagenda/kesk
 iviikkomelonta-3/2024-10-09-17-00
END:VEVENT
END:VCALENDAR
