BEGIN:VCALENDAR
VERSION:2.0
PRODID:-//Helsingin kanoottiklubi//NONSGML kigkonsult.se iCalcreator 2.30.1
 0//
CALSCALE:GREGORIAN
METHOD:PUBLISH
UID:86cd0d82-3532-4d9d-884a-5a4483e1c44e
X-WR-CALNAME:iCagenda
X-WR-CALDESC:Event Management Extension for Joomla!
X-WR-RELCALID:3E26604A-50F4-4449-8B3E-E4F4932D05B5
X-WR-TIMEZONE:Europe/Helsinki
BEGIN:VTIMEZONE
TZID:Europe/Helsinki
BEGIN:STANDARD
TZNAME:EET
DTSTART:20231029T040000
TZOFFSETFROM:+0300
TZOFFSETTO:+0200
RDATE:20241027T040000
RDATE:20251026T040000
END:STANDARD
BEGIN:DAYLIGHT
TZNAME:EEST
DTSTART:20240331T030000
TZOFFSETFROM:+0200
TZOFFSETTO:+0300
RDATE:20250330T030000
END:DAYLIGHT
END:VTIMEZONE
BEGIN:VEVENT
UID:476e9835-a3b2-40a6-a893-2f77cd90a560
DTSTAMP:20260424T152718Z
CATEGORIES:Ohjattu melonta
CLASS:PUBLIC
DESCRIPTION:
DTSTART:20240515T143000Z
DTEND:20240515T173000Z
GEO:+60.181057;+24.90877
LOCATION:Helsingin Melontakeskus
ORGANIZER:
SEQUENCE:1
SUMMARY:Keskiviikkomelonta
TRANSP:OPAQUE
URL:https://www.helsinginkanoottiklubi.fi/index.php/component/icagenda/kesk
 iviikkomelonta-5/2024-05-15-17-30
END:VEVENT
END:VCALENDAR
