BEGIN:VCALENDAR
VERSION:2.0
PRODID:-//Helsingin kanoottiklubi//NONSGML kigkonsult.se iCalcreator 2.30.1
 0//
CALSCALE:GREGORIAN
METHOD:PUBLISH
UID:957a4a1b-b0f8-4448-9050-3238e2451db5
X-WR-CALNAME:iCagenda
X-WR-CALDESC:Event Management Extension for Joomla!
X-WR-RELCALID:3E26604A-50F4-4449-8B3E-E4F4932D05B5
X-WR-TIMEZONE:Europe/Helsinki
BEGIN:VTIMEZONE
TZID:Europe/Helsinki
BEGIN:STANDARD
TZNAME:EET
DTSTART:20231029T040000
TZOFFSETFROM:+0300
TZOFFSETTO:+0200
RDATE:20241027T040000
RDATE:20251026T040000
END:STANDARD
BEGIN:DAYLIGHT
TZNAME:EEST
DTSTART:20240331T030000
TZOFFSETFROM:+0200
TZOFFSETTO:+0300
RDATE:20250330T030000
END:DAYLIGHT
END:VTIMEZONE
BEGIN:VEVENT
UID:8acf4b55-04ac-4302-ab90-ef6537cdaeb1
DTSTAMP:20260424T114730Z
CATEGORIES:Jäsenkurssi
CLASS:PUBLIC
DESCRIPTION:
DTSTART:20240710T210000Z
DTEND:20240710T210000Z
GEO:00;0
LOCATION:Melontakeskus
ORGANIZER;CN=:toimisto@helsinginkanoottiklubi.fi
SEQUENCE:1
SUMMARY:Melojan pelastautuminen
TRANSP:OPAQUE
URL:https://www.helsinginkanoottiklubi.fi/index.php/component/icagenda/melo
 jan-pelastautuminen-2/2024-07-11-00-00
END:VEVENT
END:VCALENDAR
