BEGIN:VCALENDAR
VERSION:2.0
PRODID:-//Helsingin kanoottiklubi//NONSGML kigkonsult.se iCalcreator 2.30.1
 0//
CALSCALE:GREGORIAN
METHOD:PUBLISH
UID:0d55fc42-47c8-4317-8716-cf9c9c92ceeb
X-WR-CALNAME:iCagenda
X-WR-CALDESC:Event Management Extension for Joomla!
X-WR-RELCALID:3E26604A-50F4-4449-8B3E-E4F4932D05B5
X-WR-TIMEZONE:Europe/Helsinki
BEGIN:VTIMEZONE
TZID:Europe/Helsinki
BEGIN:STANDARD
TZNAME:EET
DTSTART:20241027T040000
TZOFFSETFROM:+0300
TZOFFSETTO:+0200
RDATE:20251026T040000
RDATE:20261025T040000
END:STANDARD
BEGIN:DAYLIGHT
TZNAME:EEST
DTSTART:20250330T030000
TZOFFSETFROM:+0200
TZOFFSETTO:+0300
RDATE:20260329T030000
END:DAYLIGHT
END:VTIMEZONE
BEGIN:VEVENT
UID:23a42cbb-cb73-4720-ba6c-07effad245a0
DTSTAMP:20260419T185753Z
CATEGORIES:Jäsenkurssi
CLASS:PUBLIC
DESCRIPTION;ALTREP="CID:<FFFF__=0ABBE548DFE235B58f9e8a93d@coffeebean.com>":
 Kurssi kestää noin kaksi tuntia ja kestoon vaikuttaa tietenkin kurssin osa
 llistumäärä. Kurssin aikana kertaamme aluksi kajakin anatomiaa\, henkilöko
 htaisia varusteita\, käymme lävitse mm. melontatekniikkaa maissa\, evän ja
  jalkatukin säätöjä ja lopulta teemme melontalenkin.
DTSTART:20250612T150000Z
DTEND:20250612T150000Z
GEO:+60.181057;+24.90877
LOCATION:Helsingin Melontakeskus
ORGANIZER;CN=:toimisto@helsinginkanoottiklubi.fi
SEQUENCE:1
SUMMARY:Melonnan kertauskurssi
TRANSP:OPAQUE
URL:https://www.helsinginkanoottiklubi.fi/index.php/component/icagenda/melo
 nnan-kertauskurssi-3/2025-06-12-18-00
END:VEVENT
END:VCALENDAR
