BEGIN:VCALENDAR
VERSION:2.0
PRODID:-//Helsingin kanoottiklubi//NONSGML kigkonsult.se iCalcreator 2.30.1
 0//
CALSCALE:GREGORIAN
METHOD:PUBLISH
UID:79aade4d-6945-4069-8c41-4de0c235a8d2
X-WR-CALNAME:iCagenda
X-WR-CALDESC:Event Management Extension for Joomla!
X-WR-RELCALID:3E26604A-50F4-4449-8B3E-E4F4932D05B5
X-WR-TIMEZONE:Europe/Helsinki
BEGIN:VTIMEZONE
TZID:Europe/Helsinki
BEGIN:STANDARD
TZNAME:EET
DTSTART:20241027T040000
TZOFFSETFROM:+0300
TZOFFSETTO:+0200
RDATE:20251026T040000
RDATE:20261025T040000
END:STANDARD
BEGIN:DAYLIGHT
TZNAME:EEST
DTSTART:20250330T030000
TZOFFSETFROM:+0200
TZOFFSETTO:+0300
RDATE:20260329T030000
END:DAYLIGHT
END:VTIMEZONE
BEGIN:VEVENT
UID:1c55d8ad-a2fa-4a77-925b-75f9259c4c9a
DTSTAMP:20260419T203256Z
CATEGORIES:Tapahtuma
CLASS:PUBLIC
DESCRIPTION;ALTREP="CID:<FFFF__=0ABBE548DFE235B58f9e8a93d@coffeebean.com>":
 HKK ja Melontakeskus viettävät avointa melontapäivää 25.5.&nbsp\; Yleisöll
 ä on mahdollisuus kokeilla maksutta kajakkeja\, kanootteja\, SUP-lautoja j
 a dragonveneitä päivän aikana ohjaajien opastuksella.\nPaikalla tilaisuude
 ssa on myös Melojan tavaratalo Bear &amp\; Water esittelemässä tuotteitaan
 .
DTSTART:20250525T080000Z
DTEND:20250525T080000Z
GEO:00;0
LOCATION:
ORGANIZER:
SEQUENCE:1
SUMMARY:Melontapäivä 25.5.2025
TRANSP:OPAQUE
URL:https://www.helsinginkanoottiklubi.fi/index.php/component/icagenda/melo
 ntap%C3%A4iv%C3%A4-25-5-2025/2025-05-25-11-00
END:VEVENT
END:VCALENDAR
