BEGIN:VCALENDAR
VERSION:2.0
PRODID:-//Helsingin kanoottiklubi//NONSGML kigkonsult.se iCalcreator 2.30.1
 0//
CALSCALE:GREGORIAN
METHOD:PUBLISH
UID:3d98e4e3-d359-4605-94e8-41a08a707ae0
X-WR-CALNAME:iCagenda
X-WR-CALDESC:Event Management Extension for Joomla!
X-WR-RELCALID:3E26604A-50F4-4449-8B3E-E4F4932D05B5
X-WR-TIMEZONE:Europe/Helsinki
BEGIN:VTIMEZONE
TZID:Europe/Helsinki
BEGIN:STANDARD
TZNAME:EET
DTSTART:20231029T040000
TZOFFSETFROM:+0300
TZOFFSETTO:+0200
RDATE:20241027T040000
RDATE:20251026T040000
END:STANDARD
BEGIN:DAYLIGHT
TZNAME:EEST
DTSTART:20240331T030000
TZOFFSETFROM:+0200
TZOFFSETTO:+0300
RDATE:20250330T030000
END:DAYLIGHT
END:VTIMEZONE
BEGIN:VEVENT
UID:a3ae503f-f9c3-4fe0-9859-ea6d47f5a94a
DTSTAMP:20260424T154007Z
CATEGORIES:Ohjaajakoulutus
CLASS:PUBLIC
DESCRIPTION:
DTSTART:20240516T150000Z
DTEND:20240516T150000Z
GEO:00;0
LOCATION:Melontakeskus
ORGANIZER:
SEQUENCE:1
SUMMARY:Ohjaaja- ja kummikoulutus
TRANSP:OPAQUE
URL:https://www.helsinginkanoottiklubi.fi/index.php/component/icagenda/ohja
 aja-ja-kummikoulutus-2/2024-05-16-18-00
END:VEVENT
END:VCALENDAR
