BEGIN:VCALENDAR
VERSION:2.0
PRODID:-//Helsingin kanoottiklubi//NONSGML kigkonsult.se iCalcreator 2.30.1
 0//
CALSCALE:GREGORIAN
METHOD:PUBLISH
UID:9828705f-3f95-46e9-adaf-6bdb98249984
X-WR-CALNAME:iCagenda
X-WR-CALDESC:Event Management Extension for Joomla!
X-WR-RELCALID:3E26604A-50F4-4449-8B3E-E4F4932D05B5
X-WR-TIMEZONE:Europe/Helsinki
BEGIN:VTIMEZONE
TZID:Europe/Helsinki
BEGIN:STANDARD
TZNAME:EET
DTSTART:20231029T040000
TZOFFSETFROM:+0300
TZOFFSETTO:+0200
RDATE:20241027T040000
END:STANDARD
BEGIN:DAYLIGHT
TZNAME:EEST
DTSTART:20230326T030000
TZOFFSETFROM:+0200
TZOFFSETTO:+0300
RDATE:20240331T030000
RDATE:20250330T030000
END:DAYLIGHT
END:VTIMEZONE
BEGIN:VEVENT
UID:35a05b1f-531c-45a6-ae6e-0d76c85f839d
DTSTAMP:20260424T191411Z
CATEGORIES:Kokous
CLASS:PUBLIC
DESCRIPTION:
DTSTART:20240320T160000Z
DTEND:20240320T160000Z
GEO:00;0
LOCATION:
ORGANIZER:
SEQUENCE:1
SUMMARY:Retkikalenterikokous
TRANSP:OPAQUE
URL:https://www.helsinginkanoottiklubi.fi/index.php/component/icagenda/retk
 ikalenterikokous-3/2024-03-20-18-00
END:VEVENT
END:VCALENDAR
