BEGIN:VCALENDAR
VERSION:2.0
PRODID:-//Helsingin kanoottiklubi//NONSGML kigkonsult.se iCalcreator 2.30.1
 0//
CALSCALE:GREGORIAN
METHOD:PUBLISH
UID:45ec1e45-61c9-4941-81a3-41f17153bbd2
X-WR-CALNAME:iCagenda
X-WR-CALDESC:Event Management Extension for Joomla!
X-WR-RELCALID:3E26604A-50F4-4449-8B3E-E4F4932D05B5
X-WR-TIMEZONE:Europe/Helsinki
BEGIN:VTIMEZONE
TZID:Europe/Helsinki
BEGIN:STANDARD
TZNAME:EET
DTSTART:20231029T040000
TZOFFSETFROM:+0300
TZOFFSETTO:+0200
RDATE:20241027T040000
END:STANDARD
BEGIN:DAYLIGHT
TZNAME:EEST
DTSTART:20230326T030000
TZOFFSETFROM:+0200
TZOFFSETTO:+0300
RDATE:20240331T030000
RDATE:20250330T030000
END:DAYLIGHT
END:VTIMEZONE
BEGIN:VEVENT
UID:a9600d9d-5a50-4ac9-97d9-ee2c5ad57bb2
DTSTAMP:20260424T205449Z
CATEGORIES:Kokous
CLASS:PUBLIC
DESCRIPTION:
DTSTART:20240229T160000Z
DTEND:20240229T160000Z
GEO:+60.181057;+24.90877
LOCATION:Melontakeskus
ORGANIZER:
SEQUENCE:1
SUMMARY:Seuran kevätkokous
TRANSP:OPAQUE
URL:https://www.helsinginkanoottiklubi.fi/index.php/component/icagenda/seur
 an-kev%C3%A4tkokous/2024-02-29-18-00
END:VEVENT
END:VCALENDAR
