BEGIN:VCALENDAR
VERSION:2.0
PRODID:-//Helsingin kanoottiklubi//NONSGML kigkonsult.se iCalcreator 2.30.1
 0//
CALSCALE:GREGORIAN
METHOD:PUBLISH
UID:41986392-0776-45fb-9666-da7d1b7a714c
X-WR-CALNAME:iCagenda
X-WR-CALDESC:Event Management Extension for Joomla!
X-WR-RELCALID:3E26604A-50F4-4449-8B3E-E4F4932D05B5
X-WR-TIMEZONE:Europe/Helsinki
BEGIN:VTIMEZONE
TZID:Europe/Helsinki
BEGIN:STANDARD
TZNAME:EET
DTSTART:20241027T040000
TZOFFSETFROM:+0300
TZOFFSETTO:+0200
RDATE:20251026T040000
RDATE:20261025T040000
END:STANDARD
BEGIN:DAYLIGHT
TZNAME:EEST
DTSTART:20250330T030000
TZOFFSETFROM:+0200
TZOFFSETTO:+0300
RDATE:20260329T030000
END:DAYLIGHT
END:VTIMEZONE
BEGIN:VEVENT
UID:4a1da0c2-3c86-4b8b-a5fa-dcbe4e7fd2fc
DTSTAMP:20260419T172857Z
CATEGORIES:Jäsenkurssi
CLASS:PUBLIC
DESCRIPTION;ALTREP="CID:<FFFF__=0ABBE548DFE235B58f9e8a93d@coffeebean.com>":
 Aloittelevien ja vähän harrastavien melojien melontatekniikkakurssi järjes
 tetään Melontakeskuksessa 10.7. klo 18.00. Aloitamme kurssin teoriaosalla 
 'powerpoint -sulkeisten' johdattelemana\, minkä jälkeen siirrymme vesille 
 harjoittelemaan opittua.
DTSTART:20250703T150000Z
DTEND:20250703T150000Z
GEO:00;0
LOCATION:Helsingin Melontakeskus
ORGANIZER;CN=:toimisto@helsinginkanoottiklubi.fi
SEQUENCE:1
SUMMARY:Tekniikkakurssi
TRANSP:OPAQUE
URL:https://www.helsinginkanoottiklubi.fi/index.php/component/icagenda/tekn
 iikkakurssi-3/2025-07-03-18-00
END:VEVENT
END:VCALENDAR
