BEGIN:VCALENDAR
VERSION:2.0
PRODID:-//Helsingin kanoottiklubi//NONSGML kigkonsult.se iCalcreator 2.30.1
 0//
CALSCALE:GREGORIAN
METHOD:PUBLISH
UID:a75deaf8-12d2-40a5-87bb-b24e12cffefc
X-WR-CALNAME:iCagenda
X-WR-CALDESC:Event Management Extension for Joomla!
X-WR-RELCALID:3E26604A-50F4-4449-8B3E-E4F4932D05B5
X-WR-TIMEZONE:Europe/Helsinki
BEGIN:VTIMEZONE
TZID:Europe/Helsinki
BEGIN:STANDARD
TZNAME:EET
DTSTART:20231029T040000
TZOFFSETFROM:+0300
TZOFFSETTO:+0200
RDATE:20241027T040000
RDATE:20251026T040000
END:STANDARD
BEGIN:DAYLIGHT
TZNAME:EEST
DTSTART:20240331T030000
TZOFFSETFROM:+0200
TZOFFSETTO:+0300
RDATE:20250330T030000
END:DAYLIGHT
END:VTIMEZONE
BEGIN:VEVENT
UID:b48d3949-cd3e-4565-82a1-3852a422880d
DTSTAMP:20260424T113031Z
CATEGORIES:Ohjattu melonta
CLASS:PUBLIC
DESCRIPTION:
DTSTART:20240718T160000Z
DTEND:20240718T180000Z
GEO:+60.181057;+24.90877
LOCATION:Helsingin Melontakeskus
ORGANIZER:
SEQUENCE:1
SUMMARY:Torstaimelonta
TRANSP:OPAQUE
URL:https://www.helsinginkanoottiklubi.fi/index.php/component/icagenda/tors
 taimelonta-4/2024-07-18-19-00
END:VEVENT
END:VCALENDAR
