BEGIN:VCALENDAR
VERSION:2.0
PRODID:-//Helsingin kanoottiklubi//NONSGML kigkonsult.se iCalcreator 2.30.1
 0//
CALSCALE:GREGORIAN
METHOD:PUBLISH
UID:b86d4357-69a3-4d27-928c-c79871192bd1
X-WR-CALNAME:iCagenda
X-WR-CALDESC:Event Management Extension for Joomla!
X-WR-RELCALID:3E26604A-50F4-4449-8B3E-E4F4932D05B5
X-WR-TIMEZONE:Europe/Helsinki
BEGIN:VTIMEZONE
TZID:Europe/Helsinki
BEGIN:STANDARD
TZNAME:EET
DTSTART:20241027T040000
TZOFFSETFROM:+0300
TZOFFSETTO:+0200
RDATE:20251026T040000
RDATE:20261025T040000
END:STANDARD
BEGIN:DAYLIGHT
TZNAME:EEST
DTSTART:20250330T030000
TZOFFSETFROM:+0200
TZOFFSETTO:+0300
RDATE:20260329T030000
END:DAYLIGHT
END:VTIMEZONE
BEGIN:VEVENT
UID:29c36a23-e3dc-4583-bf14-7ef0641de9e3
DTSTAMP:20260419T172516Z
CATEGORIES:Jäsenkurssi
CLASS:PUBLIC
DESCRIPTION;ALTREP="CID:<FFFF__=0ABBE548DFE235B58f9e8a93d@coffeebean.com>":
 HKK:n turvallisuus ja pelastautumiskurssi järjestetään 4.7. klo 17.30 alka
 en. Aloitamme lyhyellä briifillä juhlasalissamme\, minkä jälkeen siirrymme
  Seurasaaren läheisyyteen hiomaan muutamaa pelastautumisen tekniikkaa. Ved
 en lämpötila vaikuttaa siihen\, kuinka monta kastumista on kohtuullista ko
 kea.
DTSTART:20250704T143000Z
DTEND:20250704T143000Z
GEO:00;0
LOCATION:Helsingin Melontakeskus
ORGANIZER;CN=:toimisto@helsinginkanoottiklubi.fi
SEQUENCE:1
SUMMARY:Turvallisuus- ja pelastautumiskurssi
TRANSP:OPAQUE
URL:https://www.helsinginkanoottiklubi.fi/index.php/component/icagenda/turv
 allisuus-ja-pelastautumiskurssi/2025-07-04-17-30
END:VEVENT
END:VCALENDAR
