BEGIN:VCALENDAR
VERSION:2.0
PRODID:-//Helsingin kanoottiklubi//NONSGML kigkonsult.se iCalcreator 2.30.1
 0//
CALSCALE:GREGORIAN
METHOD:PUBLISH
UID:b8797747-3dea-4a84-8259-539b47bd63c7
X-WR-CALNAME:iCagenda
X-WR-CALDESC:Event Management Extension for Joomla!
X-WR-RELCALID:3E26604A-50F4-4449-8B3E-E4F4932D05B5
X-WR-TIMEZONE:Europe/Helsinki
BEGIN:VTIMEZONE
TZID:Europe/Helsinki
BEGIN:STANDARD
TZNAME:EET
DTSTART:20231029T040000
TZOFFSETFROM:+0300
TZOFFSETTO:+0200
RDATE:20241027T040000
RDATE:20251026T040000
END:STANDARD
BEGIN:DAYLIGHT
TZNAME:EEST
DTSTART:20240331T030000
TZOFFSETFROM:+0200
TZOFFSETTO:+0300
RDATE:20250330T030000
END:DAYLIGHT
END:VTIMEZONE
BEGIN:VEVENT
UID:7384da61-84f4-47a5-9c4c-46cc7cee4047
DTSTAMP:20260424T154053Z
CATEGORIES:Tapahtuma
CLASS:PUBLIC
DESCRIPTION:
DTSTART:20240525T210000Z
DTEND:20240525T210000Z
GEO:00;0
LOCATION:Melontakeskus
ORGANIZER:
SEQUENCE:1
SUMMARY:Yleisömelontapäivä
TRANSP:OPAQUE
URL:https://www.helsinginkanoottiklubi.fi/index.php/component/icagenda/ylei
 s%C3%B6melontap%C3%A4iv%C3%A4/2024-05-26-00-00
END:VEVENT
END:VCALENDAR
