BEGIN:VCALENDAR
VERSION:2.0
PRODID:-//Helsingin kanoottiklubi//NONSGML kigkonsult.se iCalcreator 2.30.1
 0//
CALSCALE:GREGORIAN
METHOD:PUBLISH
UID:062dd775-b987-43cd-9ae5-284b85c46980
X-WR-CALNAME:iCagenda
X-WR-CALDESC:Event Management Extension for Joomla!
X-WR-RELCALID:3E26604A-50F4-4449-8B3E-E4F4932D05B5
X-WR-TIMEZONE:Europe/Helsinki
BEGIN:VTIMEZONE
TZID:Europe/Helsinki
BEGIN:STANDARD
TZNAME:EET
DTSTART:20251026T040000
TZOFFSETFROM:+0300
TZOFFSETTO:+0200
RDATE:20261025T040000
RDATE:20271031T040000
END:STANDARD
BEGIN:DAYLIGHT
TZNAME:EEST
DTSTART:20260329T030000
TZOFFSETFROM:+0200
TZOFFSETTO:+0300
RDATE:20270328T030000
END:DAYLIGHT
END:VTIMEZONE
BEGIN:VEVENT
UID:ddaf05c5-fd9a-4150-9814-4e4ead2c0715
DTSTAMP:20260421T153125Z
CATEGORIES:Jäsenkurssi
CLASS:PUBLIC
DESCRIPTION:
DTSTART:20260604T150000Z
DTEND:20260604T150000Z
GEO:00;0
LOCATION:Helsingin Melontakeskus
ORGANIZER:
SEQUENCE:1
SUMMARY:Melonnan kertauskurssi
TRANSP:OPAQUE
URL:https://www.helsinginkanoottiklubi.fi/index.php/jasenille/jasentapahtum
 ia/melonnan-kertauskurssi-4/2026-06-04-18-00
END:VEVENT
END:VCALENDAR
