BEGIN:VCALENDAR
VERSION:2.0
PRODID:-//Helsingin kanoottiklubi//NONSGML kigkonsult.se iCalcreator 2.30.1
 0//
CALSCALE:GREGORIAN
METHOD:PUBLISH
UID:f47bea45-78ea-4d0d-ade6-2a3089d1ff59
X-WR-CALNAME:iCagenda
X-WR-CALDESC:Event Management Extension for Joomla!
X-WR-RELCALID:3E26604A-50F4-4449-8B3E-E4F4932D05B5
X-WR-TIMEZONE:Europe/Helsinki
BEGIN:VTIMEZONE
TZID:Europe/Helsinki
BEGIN:STANDARD
TZNAME:EET
DTSTART:20251026T040000
TZOFFSETFROM:+0300
TZOFFSETTO:+0200
RDATE:20261025T040000
END:STANDARD
BEGIN:DAYLIGHT
TZNAME:EEST
DTSTART:20260329T030000
TZOFFSETFROM:+0200
TZOFFSETTO:+0300
RDATE:20270328T030000
END:DAYLIGHT
END:VTIMEZONE
BEGIN:VEVENT
UID:b5c54fc4-f2ec-4979-a3cd-f41698ce3fac
DTSTAMP:20260421T140949Z
CATEGORIES:Ohjaajakoulutus
CLASS:PUBLIC
DESCRIPTION;ALTREP="CID:<FFFF__=0ABBE548DFE235B58f9e8a93d@coffeebean.com>":
 Ohjaajakoulutus osa 3
DTSTART:20260428T150000Z
DTEND:20260428T150000Z
GEO:00;0
LOCATION:Helsingin Melontakeskus
ORGANIZER:
SEQUENCE:1
SUMMARY:Turvallisuus kursseilla ja jäsenmelonnoilla
TRANSP:OPAQUE
URL:https://www.helsinginkanoottiklubi.fi/index.php/jasenille/jasentapahtum
 ia/turvallisuus-kursseilla-ja-j%C3%A4senmelonnoilla/2026-04-28-18-00
END:VEVENT
END:VCALENDAR
